Workbook
Name A: #REF!

Sheet 回答シート
A1: 【様式】
B2: 農業委員会サポートシステム利用状況アンケート調査票（四半期毎）
AB3: 【エラーチェック】
T4: 回答調査票の選択： | U4: 第３四半期 | AB4: =IF(SUM(AD5:AF5)>0,"エラーあり","OK") -> エラーあり | AC4: 頁 | AD4: 1 | AE4: 2 | AF4: 3
Y5: (プルダウンして選択) | AB5: エラーの数⇒ | AD5: =10-AD6 -> 6 | AE5: =5-AE6 -> 5 | AF5: =3-AF6 -> 2
B6: （回答者の皆様へ）回答専用欄（太線枠内の黄色部分）内に記入してください。 | AB6: OKの数⇒ | AD6: =COUNTIF(AB8:AB38,"OK") -> 4 | AE6: =COUNTIF(AB49:AB68,"OK") -> 0 | AF6: =COUNTIF(AB74:AB96,"OK") -> 1
G8: 都道府県名 | AB8: =IF(M8=0,"入力してください","OK") -> 入力してください
G9: 市町村名 | T9: (農業委員会) | AB9: =IF(M9=0,"入力してください","OK") -> 入力してください
G10: 記入者名 | AB10: =IF(M10=0,"入力してください","OK") -> 入力してください
G11: 役 職 | AB11: =IF(M11=0,"入力してください","OK") -> 入力してください
G12: 記 入 日 | T12: (例:2026/1/15) | AB12: =IF(M12=0,"入力してください","OK") -> 入力してください
A15: １．農業委員会サポートシステム（以下、サポートシステム）の利用状況について
B16: （１）サポートシステムの利用状況を回答してください。
C19: ①一本化（サポートシステムのみ利用） | P19: →２は回答不要です
C20: ②二重管理（既存台帳システムと併用） | P20: →２を回答してください
C21: ③利用していない（既存台帳システムのみ） | AB21: =IF(V21=0,"入力してください","OK") -> 入力してください
V22: (プルダウンして選択)
B23: （２）【（１）で①②と回答した委員会】サポートシステムの更新頻度を回答してください。
AB25: =IF(AND(OR($V$21="①",$V$21="②"),Q25=0),"入力してください",IF(AND($V$21="③",Q25>0),"入力不要です","OK")) -> OK
V26: (プルダウンして選択)
B29: （１）既存台帳システムのベンダ名（会社・業者名）を回答してください。
AB30: =IF(AND(OR($V$21="③",$V$21="②"),O30=0),"入力してください",IF(AND($V$21="①",O30>0),"入力不要です","OK")) -> OK
B32: （２）既存台帳システムのベンダとの保守契約状況を回答してください。
D33: ①保守契約を結んでいる → （３）を回答してください
D34: ②既に保守契約は終了している | AB34: =IF(AND(OR($V$21="③",$V$21="②"),V34=0),"入力してください",IF(AND($V$21="①",V34>0),"入力不要です","OK")) -> OK
V35: (プルダウンして選択)
B37: （３）【（２）で①と回答した委員会】既存台帳システムの保守契約期限を回答してください。
D38: 記入例：2026年3月 | AB38: =IF(AND($V$34="①",O38=0),"入力してください",IF(AND($V$34="②",O38>0),"入力不要です","OK")) -> OK
A40: ３．農業委員会サポートシステムで管理されている農地情報における最新の情報の割合について
B41: 【すべての委員会】
B42: （１）以下の３項目の更新状況について、「根拠数値入力シート」に数値を記入してください。次のいずれかの項目が自動入力されます（8割以上、5割以上～8割未満、5割未満）。記入時にあたっては、別紙２の留意点を確認してください。
B44: 農業委員会サポートシステムで管理されている農地情報 農業委員会交付金※の算定に活用（配分時期の直近に実施の｢第２四半期アンケート結果｣を活用予定) ※ 農業委員会交付金のうち、特別の事情に応じた配分額（２割）の一部について、農林水産省所管課が 以下の「最新の情報を反映した農地情報の整備状況」を確認し、配分を実施。
R49: (自動入力)
C50: １）適用形態（権利の種類）
D51: 農業委員会サポートシステムで管理されている農地情報の | R51: =IF(根拠数値入力シート!K10>=0.8,"８割以上",IF(根拠数値入力シート!K10>=0.5,"５割～８割",IF(根拠数値入力シート!K10<0.5,"５割未満","-"))) -> #DIV/0! | U51: が最新 | AB51: =IFERROR(IF(OR(根拠数値入力シート!K8="",R51=0),"「根拠数値入力シート」に入力してください","OK"),"「根拠数値入力シート」に入力してください") -> 「根拠数値入力シート」に入力してください
R52: (自動入力)
C53: ２）遊休農地の区分
D54: 農業委員会サポートシステムで管理されている農地情報の | R54: =IF(根拠数値入力シート!K15>=0.8,"８割以上",IF(根拠数値入力シート!K15>=0.5,"５割～８割",IF(根拠数値入力シート!K15<0.5,"５割未満","-"))) -> #DIV/0! | U54: が最新 | AB54: =IFERROR(IF(OR(根拠数値入力シート!K13="",R54=0),"「根拠数値入力シート」に入力してください","OK"),"「根拠数値入力シート」に入力してください") -> 「根拠数値入力シート」に入力してください
R55: (自動入力)
C56: ３）利用状況調査日
D57: 農業委員会サポートシステムで管理されている農地情報の | R57: =IF(根拠数値入力シート!K20>=0.8,"８割以上",IF(根拠数値入力シート!K20>=0.5,"５割～８割",IF(根拠数値入力シート!K20<0.5,"５割未満","-"))) -> #DIV/0! | U57: が最新 | AB57: =IFERROR(IF(OR(根拠数値入力シート!K18="",R57=0),"「根拠数値入力シート」に入力してください","OK"),"「根拠数値入力シート」に入力してください") -> 「根拠数値入力シート」に入力してください
R58: (自動入力)
B60: （２）１）サポートシステムの更新が遅れている※場合、今後どうやって台帳情報の最新化を 図っていくか回答してください。
D62: ①手入力で更新していく ②CSV一括更新機能を活用する
D63: ③再アップロードを実施する ④分からない | AB63: =IF(AND(V63=0,$AB$70="更新が遅れている"),"入力してください","OK") -> #DIV/0!
V64: (プルダウンして選択)
B66: ２）１）を実施・開始する時期と完了予定時期を記入してください。
F68: 年 | I68: 月から実施し、 | Q68: 年 | T68: 月までに完了予定 | AB68: =IF(AND(OR(D68=0,G68=0,O68=0,R68=0),$AB$70="更新が遅れている"),"入力してください","OK") -> #DIV/0!
D69: (プルダウンして選択) | O69: (プルダウンして選択) | AB69: 【更新遅れの有無】
AB70: =IF(OR(R51<>"８割以上",R54<>"８割以上",R57<>"８割以上"),"更新が遅れている","更新遅れなし") -> #DIV/0!
B74: ３）更新が遅れている場合、その理由を以下から選択してください（該当に○：複数選択可）。 | AB74: =IF(AND(V75<>"○",V76<>"○",V77<>"○",V78<>"○",V79<>"○",V80<>"○",V81<>"○",$AB$70="更新が遅れている"),"入力してください","OK") -> #DIV/0!
C75: ①更新方法がわからない
C76: ②更新方法は概ねわかるが、どこから着手すべきかわからない
C77: ③未更新筆が多いため一括更新をしたいが、その方法がわからない
C78: ④未更新内容を整理できていない
C79: ⑤農振区分のデータを未入手
C80: ⑥農振区分のデータはあるが、区分を判断できない箇所がある
C81: ⑦その他（以下の欄に記述ください）
V82: (プルダウンして選択)
C84: その他記述欄
AB85: =IF(AND(V81="○",$C$85=0),"入力してください","OK") -> OK
A89: ４．住基・固定台帳との照合作業【令和６年度以降に行った照合について】
C90: ①住基・固定突合アプリを使って照合済み
C91: ②住基・固定突合アプリを使って照合中（エラーチェック中など）
C92: ③既存台帳システムで照合済みのデータをサポートシステムに反映済み
C93: ④既存台帳システムで照合済みのデータをサポートシステムに反映中（エラーチェック中など）
C94: ⑤未実施 | AB94: =IF(U94=0,"入力してください","OK") -> 入力してください
V95: (プルダウンして選択)
A97: ５．サポートシステムを利用・更新していく上での課題や、操作性・機能についての要望等について【任意】
C99: 具体的な課題や要望がある場合は記入してください。
A105: 設問は以上です。ご回答ありがとうございました。

Sheet 根拠数値入力シート
A2: 根拠数値
A3: 各件数を入力すると、最新化割合が自動計算され「回答シート」に反映されます。件数の算定は別紙３の手順書を参考にしてください。
B6: サポートシステムの農地件数【分母】
A8: １） | B8: 適用形態（権利の種類）の未更新件数 | M8: ←未更新件数がない場合は0と入力してください
J10: 最新化割合 | K10: =1-K8/K6 -> #DIV/0!
K11: 自動計算欄
A13: ２） | B13: 遊休農地の区分の未更新件数 | M13: ←未更新件数がない場合は0と入力してください
J15: 最新化割合 | K15: =1-K13/K6 -> #DIV/0!
K16: 自動計算欄
A18: ３） | B18: 利用状況調査日の未更新件数 | M18: ←未更新件数がない場合は0と入力してください
J20: 最新化割合 | K20: =1-K18/K6 -> #DIV/0!
K21: 自動計算欄

Sheet 転記シート
A1: 【転記用シート】すべて自動計算で転記されます。編集しないでください。
A3: 令和7年度 農業委員会サポートシステム利用状況確認アンケート | I3: １．利用状況 | K3: ２．既存ベンダ情報 | N3: ３．最新情報の割合 | AB3: ４． | AC3: 5． | AD3: ＜参考＞台帳更新状況の根拠数値
I4: （１） | J4: （２） | K4: （１） | L4: （２） | M4: （３） | N4: （１）１ | O4: （１）２ | P4: （１）３ | Q4: （２）１ | R4: （２）２ | T4: ３）更新が遅れている理由
A5: 回答調査票 | B5: 都道府県名 | C5: 市町村名 | D5: 記入者名 | E5: 役職 | F5: 記入日 | G5: 組織名 | H5: 委員会コード | I5: 利用状況 | J5: 更新頻度 | K5: ベンダ名 | L5: 契約状況 | M5: 契約期限 | N5: 適用形態 (権利の種類) | O5: 遊休農地の区分 | P5: 利用状況調査日 | Q5: 最新化方法 | R5: 最新化実施時期 | T5: ①更新方法がわからない | U5: ②更新方法は概ねわかるが、どこから着手すべきかわからない | V5: ③未更新筆が多いため一括更新をしたいが、その方法がわからない | W5: ④未更新内容を整理できていない | X5: ⑤農振区分のデータを未入手 | Y5: ⑥農振区分のデータはあるが、区分を判断できない箇所がある | Z5: ⑦その他（以下の欄に記述ください） | AA5: その他 | AB5: 住基固定との照合 | AC5: 課題・要望 | AD5: サポートシステムの農地件数 | AE5: 適用形態（権利の種類）の未更新件数 | AF5: 左の最新化割合 | AG5: 遊休農地の区分の未更新件数 | AH5: 左の最新化割合 | AI5: 利用状況調査日の未更新件数 | AJ5: 左の最新化割合
A6: =回答シート!U4 -> 第３四半期 | B6: =回答シート!M8 -> 0 | C6: =回答シート!M9 -> 0 | D6: =回答シート!M10 -> 0 | E6: =回答シート!M11 -> 0 | F6: =回答シート!M12 -> 0 | G6: =B6&C6 -> 00 | H6: =VLOOKUP(G6,基本情報!B2:G1738,4,FALSE) -> #N/A | I6: =回答シート!V21 -> 0 | J6: =回答シート!Q25 -> 0 | K6: =回答シート!O30 -> 0 | L6: =回答シート!V34 -> 0 | M6: =回答シート!O38 -> 0 | N6: =回答シート!R51 -> #DIV/0! | O6: =回答シート!R54 -> #DIV/0! | P6: =回答シート!R57 -> #DIV/0! | Q6: =回答シート!V63 -> 0 | R6: =回答シート!D68&"年"&回答シート!G68&"月" -> 年月 | S6: =回答シート!O68&"年"&回答シート!R68&"月" -> 年月 | T6: =回答シート!$V$75 -> 0 | U6: =回答シート!$V$76 -> 0 | V6: =回答シート!$V$77 -> 0 | W6: =回答シート!$V$78 -> 0 | X6: =回答シート!$V$79 -> 0 | Y6: =回答シート!$V$80 -> 0 | Z6: =回答シート!$V$81 -> 0 | AA6: =回答シート!C85 -> 0 | AB6: =回答シート!U94 -> 0 | AC6: =回答シート!C100 -> 0 | AD6: =根拠数値入力シート!K6 -> 0 | AE6: =根拠数値入力シート!K8 -> 0 | AF6: =根拠数値入力シート!K10 -> #DIV/0! | AG6: =根拠数値入力シート!K13 -> 0 | AH6: =根拠数値入力シート!K15 -> #DIV/0! | AI6: =根拠数値入力シート!K18 -> 0 | AJ6: =根拠数値入力シート!K20 -> #DIV/0!

Sheet 基本情報
B2: 都道府県＋市町村名 | C2: 都道府県 | E2: 農業委員会等コード | F2: 市町村名 | G2: 農業委員会等名称
B3: =D3&F3 -> 北海道札幌市 | C3: 01北海道 | D3: 北海道 | E3: 011002 | F3: 札幌市 | G3: 札幌市農業委員会
B4: =D4&F4 -> 北海道函館市 | C4: 01北海道 | D4: 北海道 | E4: 012025 | F4: 函館市 | G4: 函館市農業委員会
B5: =D5&F5 -> 北海道小樽市 | C5: 01北海道 | D5: 北海道 | E5: 012033 | F5: 小樽市 | G5: 小樽市農業委員会
B6: =D6&F6 -> 北海道旭川市 | C6: 01北海道 | D6: 北海道 | E6: 012041 | F6: 旭川市 | G6: 旭川市農業委員会
B7: =D7&F7 -> 北海道室蘭市 | C7: 01北海道 | D7: 北海道 | E7: 012050 | F7: 室蘭市 | G7: 室蘭市
B8: =D8&F8 -> 北海道釧路市 | C8: 01北海道 | D8: 北海道 | E8: 012068 | F8: 釧路市 | G8: 釧路市農業委員会
B9: =D9&F9 -> 北海道帯広市 | C9: 01北海道 | D9: 北海道 | E9: 012076 | F9: 帯広市 | G9: 帯広市農業委員会
B10: =D10&F10 -> 北海道北見市 | C10: 01北海道 | D10: 北海道 | E10: 0120841 | F10: 北見市 | G10: 北見市第一農業委員会
B11: =D11&F11 -> 北海道北見市 | C11: 01北海道 | D11: 北海道 | E11: 0120842 | F11: 北見市 | G11: 北見市第二農業委員会
B12: =D12&F12 -> 北海道夕張市 | C12: 01北海道 | D12: 北海道 | E12: 012092 | F12: 夕張市 | G12: 夕張市農業委員会
B13: =D13&F13 -> 北海道岩見沢市 | C13: 01北海道 | D13: 北海道 | E13: 012106 | F13: 岩見沢市 | G13: 岩見沢市農業委員会
B14: =D14&F14 -> 北海道網走市 | C14: 01北海道 | D14: 北海道 | E14: 012114 | F14: 網走市 | G14: 網走市農業委員会
... B1738: =D1738&F1738 -> 沖縄県与那国町 | C1738: 47沖縄県 | D1738: 沖縄県 | E1738: 473821 | F1738: 与那国町 | G1738: 与那国町農業委員会
