Workbook
Name ○○県: リスト!$AY$3
Name 愛知県: リスト!$Z$3:$Z$56
Name 愛媛県: リスト!$AO$3:$AO$22
Name 茨城県: リスト!$K$3:$K$46
Name 岡山県: リスト!$AJ$3:$AJ$30
Name 沖縄県: リスト!$AX$3:$AX$43
Name 岩手県: リスト!$F$3:$F$35
Name 岐阜県: リスト!$X$3:$X$44
Name 宮崎県: リスト!$AV$3:$AV$28
Name 宮城県: リスト!$G$3:$G$37
Name 京都府: リスト!$AC$3:$AC$28
Name 熊本県: リスト!$AT$3:$AT$47
Name 群馬県: リスト!$M$3:$M$37
Name 広島県: リスト!$AK$3:$AK$25
Name 香川県: リスト!$AN$3:$AN$19
Name 高知県: リスト!$AP$3:$AP$36
Name 佐賀県: リスト!$AR$3:$AR$22
Name 埼玉県: リスト!$N$3:$N$65
Name 三重県: リスト!$AA$3:$AA$31
Name 山形県: リスト!$I$3:$I$37
Name 山口県: リスト!$AL$3:$AL$21
Name 山梨県: リスト!$V$3:$V$29
Name 滋賀県: リスト!$AB$3:$AB$21
Name 鹿児島県: リスト!$AW$3:$AW$45
Name 秋田県: リスト!$H$3:$H$27
Name 新潟県: リスト!$R$3:$R$32
Name 神奈川県: リスト!$Q$3:$Q$36
Name 青森県: リスト!$E$3:$E$42
Name 静岡県: リスト!$Y$3:$Y$37
Name 石川県: リスト!$T$3:$T$21
Name 千葉県: リスト!$O$3:$O$56
Name 大阪府: リスト!$AD$3:$AD$45
Name 大分県: リスト!$AU$3:$AU$20
Name 長崎県: リスト!$AS$3:$AS$23
Name 長野県: リスト!$W$3:$W$79
Name 鳥取県: リスト!$AH$3:$AH$21
Name 島根県: リスト!$AI$3:$AI$21
Name 東京都: リスト!$P$3:$P$64
Name 徳島県: リスト!$AM$3:$AM$26
Name 栃木県: リスト!$L$3:$L$27
Name 奈良県: リスト!$AF$3:$AF$41
Name 富山県: リスト!$S$3:$S$17
Name 福井県: リスト!$U$3:$U$19
Name 福岡県: リスト!$AQ$3:$AQ$62
Name 福島県: リスト!$J$3:$J$61
Name 兵庫県: リスト!$AE$3:$AE$43
Name 北海道: リスト!$D$3:$D$188
Name 和歌山県: リスト!$AG$3:$AG$32

Sheet 設定
B2: これは各シートに対して共通項目を自動転記するためシートです。
B3: 以下の各項目を入力したうえで、様式１～６号を入力してください。
C5: 都道府県名 | D5: ○○県 | E5: ※必ず都道府県名→市町村名の順番でリスト選択してください。
C6: 市町村名 | D6: ○○市
C7: 農業委員会名 | D7: =_xlfn.CONCAT(D6,"農業委員会") -> ○○市農業委員会
C8: 対象年度 | D8: 令和○年度

Sheet 別紙様式１
A3: =_xlfn.CONCAT(設定!$D$8,"最適化活動の目標の設定等") -> 令和○年度最適化活動の目標の設定等
AF5: 都道府県名： | AM5: =設定!$D$5 -> ○○県
AF6: 農業委員会名： | AM6: =設定!$D$7 -> ○○市農業委員会
A8: =_xlfn.CONCAT("Ⅰ 農業委員会の状況（",LEFT(設定!$D$8,3),"年４月１日現在）") -> Ⅰ 農業委員会の状況（令和○年４月１日現在）
B10: １ 農業委員会の現在の体制
C12: 任命・委嘱年月日 | K12: 令和５ | N12: 年 | O12: 7 | Q12: 月 | R12: 15 | T12: 日 | X12: 任期満了年月日 | AF12: 令和８ | AJ12: 年 | AK12: 7 | AM12: 月 | AN12: 14 | AP12: 日
L14: 農業委員 | AI14: 定数 | AM14: 実数 | AQ14: 担当区域数
L15: 定数 | P15: 実数 | X15: 農地利用最適化推進委員 | AI15: 19 | AM15: 18 | AQ15: 18
C16: 農業委員数 | L16: 19 | P16: 19
E17: 認定農業者 | L17: － | P17: 14
E18: 認定農業者に準ずる者 | L18: － | P18: 4
E19: 女性 | L19: － | P19: 4
E20: 40代以下 | L20: － | P20: 4
E21: 中立委員 | L21: － | P21: 2
B23: ２ 農家・農地等の概要
L25: 経営体数 | Z25: 農業者数(人) | AP25: 経営体数（経営体）
C26: 総農家数 | L26: 2500 | R26: 基幹的農業従事者数 | Z26: 3500 | AG26: 認定農業者 | AP26: 500
C27: 農業経営体数 | L27: 500 | S27: 女性 | Z27: 1500 | AG27: 基本構想水準到達者 | AP27: 100
C28: ※ 直近の「農林業センサス」又は 「農業構造動態調査」に基づいて 記入 | S28: 40代以下 | Z28: 300 | AG28: 認定新規就農者 | AP28: 10
R29: ※ 直近の「農林業センサス」又は 「農業構造動態調査」に基づいて 記入 | AG29: 農業参入法人 | AP29: 30
AG30: 集落営農経営 | AP30: 5
AH31: 特定農業団体 | AP31: 1
AH32: 集落営農組織 | AP32: 4
AG33: ※農業委員会調べ
AK35: 単位:ｈａ
L36: 田 | Q36: 畑 | AK36: 計
V37: 普通畑 | AA37: 樹園地 | AF37: 牧草畑
C38: 耕地面積 | L38: 4000 | Q38: 1000 | V38: 600 | AA38: 300 | AF38: 100 | AK38: 5000
C39: ※ 直近の「耕地及び作付面積統計」に基づいて記入
A41: Ⅱ 最適化活動の目標
B43: １ 最適化活動の成果目標
B44: （１）農地の集積
C45: ①現状及び課題
C46: 現状 | J46: 管内の農地面積(A) | W46: これまでの集積面積(B) | AJ46: 集積率(B)／(A)
J47: 5000 | U47: ha | W47: 3000 | AH47: ha | AJ47: =IFERROR(W47/J47*100,0) -> 60 | AV47: ％
C48: 課題 | J48: ○○○○○○○○
C49: ※1 農地面積は、直近の「耕地及び作付面積統計」における耕地面積を記入
C50: ※2 「農地の集積」は、経営局長通知の別表１に掲げる者への農地の集積をいう
C51: ※3 「集積面積」は、局長通知別表１に掲げる者へ集積された農地の面積をいう（以下同じ。）
C53: ②目標
C54: 農地の集積の目標年度 | R54: 令和８ | X54: 年度 | Z54: 集積率 | AO54: 80 | AT54: ％
C55: 今年度の新規集積面積 | R55: 500 | X55: ha | Z55: 農地面積(C) | AO55: 5000 | AT55: ha
C56: 今年度末の集積面積（累計）(D) | R56: 3500 | X56: ha | Z56: （目標）今年度末の集積率 (E)=(D)／(C) | AO56: =IFERROR(R56/AO55*100,0) -> 70 | AT56: ％
C57: ※ 農地の集積の目標年度及び農地集積率には、設定した目標の根拠とした目標の目標年度及び当該目標年度における農地集積率を記入
B59: （２）遊休農地の解消
C60: ①現状及び課題
C61: 現状 | J61: 直近の利用状況調査により判明した遊休農地の状況
J62: １号遊休農地面積
W63: うち緑区分の遊休農地面積 | AJ63: うち黄区分の遊休農地面積
J64: 100 | U64: ha | W64: 50 | AH64: ha | AJ64: 50 | AV64: ha
C65: 課題 | J65: ○○○○○○○○
C67: ②目標
C68: ア 既存遊休農地の解消
C69: ａ 緑区分の遊休農地の解消
C70: 令和３年度の利用状況調査における緑区分の遊休農地面積 | AD70: 45 | AJ70: ha
C71: 緑区分の遊休農地の解消目標面積 | AD71: =AD70/5 -> 9 | AJ71: ha
C72: ※ 緑区分の遊休農地の解消目標は、令和３年度の利用状況調査における緑区分の遊休農地面積の５分の１の面積を記入
C74: ｂ 黄区分の遊休農地の解消
C75: 令和３年度の利用状況調査における黄区分の遊休農地 | AD75: 50 | AJ75: ha
C76: 黄区分の遊休農地の解消のための工程表の策定方針 | N76: ○○○○
C78: イ 新規発生遊休農地の解消
C79: 前年度に新規発生した緑区分の遊休農地の解消目標面積 | AD79: 5 | AJ79: ha
B81: （３）新規参入の促進
C82: ①現状及び課題
C83: 現状 | J83: ○年度新規参入者 | W83: ○年度新規参入者 | AJ83: ○年度新規参入者
J84: 3 | S84: 経営体 | W84: 2 | AF84: 経営体 | AJ84: 5 | AS84: 経営体
J85: 4 | S85: ha | W85: 3 | AF85: ha | AJ85: 20 | AS85: ha
C86: 課題 | J86: ○○○○○○○○
C87: ※ 現状欄は、直近３年度の新規参入した経営体数と当該経営体の経営面積の合計の農地面積を記入
C89: ②目標
C90: 権利移動面積 | U90: ○年度 | AB90: ○年度 | AI90: ○年度 | AP90: 平均
U91: 200 | Z91: ha | AB91: 300 | AG91: ha | AI91: 100 | AN91: ha | AP91: =AVERAGE(U91,AB91,AI91) -> 200 | AV91: ha
C92: 新規参入者への貸付等について農地所有者の同意を得た上で公表する農地の面積 | AG92: 20 | AK92: ha
C93: ※1 過去３年間の権利移動面積は、農地法（昭和27年法律第229号）第３条第１項に基づく許可及び農業経営基盤強化促進法 第19条に基づき公告された農用地利用集積計画による権利移動面積（有償所有権移転（所有権に基づいて耕作の事業に供 していたものに限る。）及び賃借権の設定並びに利用権の設定に限る。）を記入
C94: ※2 目標面積は、過去３年度の権利移動面積の平均の１割以上を記入
B96: ２ 最適化活動の活動目標
C97: （１）推進委員等が最適化活動を行う日数目標
C99: １人当たりの活動日数 | P99: 10 | U99: 日／月 | Y99: 最適化活動を行う 農業委員の人数 | AL99: 10 | AQ99: 人
Y100: 農地利用最適化推進委員の 人数 | AL100: 18 | AQ100: 人
C102: （２）活動強化月間の設定目標
C104: 活動強化月間の設定回数 | Y104: 3 | AC104: 回
C106: 取組時期 | I106: 取組項目 | Q106: 強化月間の内容
C107: ８月 | I107: 農地の集積 | Q107: ○○○
C108: 12月 | I108: 遊休農地の解消 | Q108: △△△
C109: ２月 | I109: 新規参入の促進 | Q109: □□□
C112: ※1 取組項目欄は、①農地の集積、②遊休農地の解消、③新規参入の促進のいずかを記入
C113: ※2 強化月間の内容欄は、活動強化月間の具体的な取組の内容を記入
C115: （３）新規参入相談会への参加目標
C117: 新規参入相談会への参加回数 | Y117: 2 | AC117: 回
C119: 開催時期 | J119: 令和○年○月○日 | W119: 相談会名 | AJ119: ○○県新規参入フェア
C120: 参加者数 | J120: ３人 | W120: 開催場所 | AJ120: ○○県○○メッセ
C121: 相談会の内容 | J121: ○○○
C122: 開催時期 | J122: 令和○年○月○日 | W122: 相談会名 | AJ122: ○○地域就農相談会
C123: 参加者数 | J123: ２人 | W123: 開催場所 | AJ123: ○○地域振興局
C124: 相談会の内容 | J124: △△△
C125: ※ 新規参入相談会への参加回数欄は、推進委員等が１名以上参加する相談会の数を記入 （参加者数によらず、１名以上が参加する新規参入相談会ごとに１回とする）

Sheet 別紙様式４
A1: =_xlfn.CONCAT(設定!$D$8,"最適化活動の目標及び目標に対する点検・評価") -> 令和○年度最適化活動の目標及び目標に対する点検・評価
A4: 農業委員会名 | B4: １ 最適化活動の成果目標 | N4: ２ 最適化活動の活動目標 | V4: ３ 点検・評価結果
B5: （１） 農地の集積 | G5: （２） 遊休農地の解消等 | L5: （３） 新規参入の促進 | N5: 最適化活動を行う農業委員の人数 | O5: 農地利用最適化推進委員の人数 | P5: （１） 推進委員等が最適化活動を行う日数 | R5: （２） 活動強化月間 | T5: （３） 新規参入相談会への参加 | W5: 推進委員等の点検・評価結果
B6: 前年度末の集積率 | C6: 目標 | D6: 実績 | G6: 目標 | H6: 実績 | I6: 実績 | J6: 目標 | K6: 実績 | L6: 目標 | M6: 実績 | P6: 目標 | Q6: 実績 | R6: 目標 | S6: 実績 | T6: 目標 | U6: 実績 | V6: 農業委員会の 点検・評価結果 （評語） | W6: 評語ごとの該当する推進委員等の人数
C7: 集積率 | D7: 農地面積 | E7: 集積面積 | F7: 今年度末の集積率 | G7: 緑区分 解消面積 | H7: 緑区分 解消面積 | I7: 黄区分 解消工程表策定 （有無を記入） | J7: 新規発生 解消面積 | K7: 新規発生 解消面積 | L7: 同意 ・ 公表面積 | M7: 同意 ・ 公表面積 | P7: 月当たり 活動日数 | Q7: 月当たり 活動日数 （平均） | R7: 活動強化月間の実施回数 | S7: 活動強化月間の実施回数 | T7: 新規参入 相談会への 参加回数 | U7: 新規参入 相談会への 参加回数 | W7: 目標に対し期待を大幅に上回る結果が得られた | X7: 目標に対し期待を上回る結果が得られた | Y7: 目標に対して期待どおりの結果が得られた | Z7: 目標に対して期待を（やや）下回る結果となった
D8: A | E8: B | F8: C=B/A
B9: ％ | C9: ％ | D9: ha | E9: ha | F9: ％ | G9: ha | H9: ha | J9: ha | K9: ha | L9: ha | M9: ha | N9: 人 | O9: 人 | P9: 日 | Q9: 日 | R9: 回 | S9: 回 | T9: 回 | U9: 回 | W9: 人 | X9: 人 | Y9: 人 | Z9: 人
A10: =設定!$D$7 -> ○○市農業委員会 | B10: =別紙様式１!AJ47 -> 60 | C10: =別紙様式５!AO60 -> 70 | D10: =別紙様式５!AO64 -> 5000 | E10: =別紙様式５!R65 -> 3400 | F10: =別紙様式５!AO65 -> 68 | G10: =別紙様式５!AD84 -> 9 | H10: =別紙様式５!AD95 -> 8 | I10: 策定した | J10: =別紙様式５!AD90 -> 5 | K10: =別紙様式５!AD100 -> 5 | L10: =別紙様式５!AG123 -> 20 | M10: =別紙様式５!AD128 -> 30 | N10: =別紙様式５!AL141 -> 10 | O10: =別紙様式５!AL142 -> 18 | P10: =別紙様式５!P141 -> 10 | Q10: 10 | R10: =別紙様式５!Y146 -> 3 | S10: =別紙様式５!Y158 -> 3 | T10: =別紙様式５!Y170 -> 2 | U10: =別紙様式５!Y182 -> 2 | V10: =別紙様式５!C194 -> 目標に対して期待を上回る結果が得られた | W10: =別紙様式５!Y201 -> 5 | X10: =別紙様式５!Y202 -> 14 | Y10: =別紙様式５!Y203 -> 8 | Z10: =別紙様式５!Y204 -> 1
A12: ※ 都道府県は、農業委員会から報告のあった本表を取りまとめて報告

Sheet 別紙様式５
A2: =_xlfn.CONCAT(設定!$D$8,"農業委員会の農地利用の最適化の推進の状況その他事務の実施状況の公表") -> 令和○年度農業委員会の農地利用の最適化の推進の状況その他事務の実施状況の公表
AF4: 都道府県名： | AM4: =別紙様式１!AM5 -> ○○県
AF5: 農業委員会名： | AM5: =別紙様式１!AM6 -> ○○市農業委員会
A6: =別紙様式１!A8 -> Ⅰ 農業委員会の状況（令和○年４月１日現在）
C8: ※ 「Ⅰ 農業委員会の現況」については、別紙様式１の内容を転記
B10: １ 農業委員会の現在の体制
C12: 任命・委嘱年月日 | K12: =別紙様式１!K12 -> 令和５ | N12: 年 | O12: =別紙様式１!O12 -> 7 | Q12: 月 | R12: =別紙様式１!R12 -> 15 | T12: 日 | X12: 任期満了年月日 | AF12: =別紙様式１!AF12 -> 令和８ | AJ12: 年 | AK12: =別紙様式１!AK12 -> 7 | AM12: 月 | AN12: =別紙様式１!AN12 -> 14 | AP12: 日
L14: 農業委員 | AI14: 定数 | AM14: 実数 | AQ14: 担当区域数
L15: 定数 | P15: 実数 | X15: 農地利用最適化推進委員 | AI15: =別紙様式１!AI15 -> 19 | AM15: =別紙様式１!AM15 -> 18 | AQ15: =別紙様式１!AQ15 -> 18
C16: 農業委員数 | L16: =別紙様式１!L16 -> 19 | P16: =別紙様式１!P16 -> 19
E17: 認定農業者 | L17: － | P17: =別紙様式１!P17 -> 14
E18: 認定農業者に準ずる者 | L18: － | P18: =別紙様式１!P18 -> 4
E19: 女性 | L19: － | P19: =別紙様式１!P19 -> 4
E20: 40代以下 | L20: － | P20: =別紙様式１!P20 -> 4
E21: 中立委員 | L21: － | P21: =別紙様式１!P21 -> 2
B23: ２ 農家・農地等の概要
L25: 経営体数 | Z25: 農業者数(人) | AP25: 経営体数（経営体）
C26: 総農家数 | L26: =別紙様式１!L26 -> 2500 | R26: 基幹的農業従事者数 | Z26: =別紙様式１!Z26 -> 3500 | AG26: 認定農業者 | AP26: =別紙様式１!AP26 -> 500
C27: 農業経営体数 | L27: =別紙様式１!L27 -> 500 | S27: 女性 | Z27: =別紙様式１!Z27 -> 1500 | AG27: 基本構想水準到達者 | AP27: =別紙様式１!AP27 -> 100
C28: ※ 直近の「農林業センサス」又は 「農業構造動態調査」に基づいて 記入 | S28: 40代以下 | Z28: =別紙様式１!Z28 -> 300 | AG28: 認定新規就農者 | AP28: =別紙様式１!AP28 -> 10
R29: ※ 直近の「農林業センサス」又は 「農業構造動態調査」に基づいて 記入 | AG29: 農業参入法人 | AP29: =別紙様式１!AP29 -> 30
AG30: 集落営農経営 | AP30: =別紙様式１!AP30 -> 5
AH31: 特定農業団体 | AP31: =別紙様式１!AP31 -> 1
AH32: 集落営農組織 | AP32: =別紙様式１!AP32 -> 4
AG33: ※農業委員会調べ
AK35: 単位:ｈａ
L36: 田 | Q36: 畑 | AK36: 計
V37: 普通畑 | AA37: 樹園地 | AF37: 牧草畑
C38: 耕地面積 | L38: =別紙様式１!L38 -> 4000 | Q38: =別紙様式１!Q38 -> 1000 | V38: =別紙様式１!V38 -> 600 | AA38: =別紙様式１!AA38 -> 300 | AF38: =別紙様式１!AF38 -> 100 | AK38: =別紙様式１!AK38 -> 5000
C39: ※ 直近の「耕地及び作付面積統計」に基づいて記入
A41: Ⅱ 最適化活動の実施状況
A43: 【農業委員会の実績及び点検・評価結果】
C45: ※ 「現状及び課題」及び「目標」については、別紙様式１の内容を転記
B47: １ 最適化活動の成果目標
B48: （１）農地の集積
C49: ①現状及び課題
C50: 現状 | J50: 管内の農地面積(A) | W50: これまでの集積面積(B) | AJ50: 集積率(B)／(A)
J51: =別紙様式１!J47 -> 5000 | U51: ha | W51: =別紙様式１!W47 -> 3000 | AH51: ha | AJ51: =別紙様式１!AJ47 -> 60 | AV51: ％
C52: 課題 | J52: =別紙様式１!J48 -> ○○○○○○○○
C53: ※1 農地面積は、直近の「耕地及び作付面積統計」における耕地面積を記入
C54: ※2 「農地の集積」は、経営局長通知の別表１に掲げる者への農地の集積をいう
C55: ※3 「集積面積」は、局長通知別表１に掲げる者へ集積された農地の面積をいう（以下同じ。）
C57: ②目標
C58: 農地の集積の目標年度 | R58: =別紙様式１!R54 -> 令和８ | X58: 年度 | Z58: 集積率 | AO58: =別紙様式１!AO54 -> 80 | AT58: ％
C59: 今年度の新規集積面積 | R59: =別紙様式１!R55 -> 500 | X59: ha | Z59: 農地面積(C) | AO59: =別紙様式１!AO55 -> 5000 | AT59: ha
C60: 今年度末の集積面積（累計）(D) | R60: =別紙様式１!R56 -> 3500 | X60: ha | Z60: （目標）今年度末の集積率 (E)=(D)／(C) | AO60: =別紙様式１!AO56 -> 70 | AT60: ％
C61: ※ 農地の集積の目標年度及び農地集積率には、設定した目標の根拠とした目標の目標年度及び当該目標年度における農地集積率を記入
C63: ③実績
C64: 今年度の新規集積面積 | R64: 400 | X64: ha | Z64: 農地面積(F) | AO64: 5000 | AT64: ha
C65: 今年度末の集積面積（累計）(G) | R65: 3400 | X65: ha | Z65: 今年度末の集積率 (H)=(G)／(F) | AO65: =IFERROR(R65/AO64*100,0) -> 68 | AT65: ％
C66: 目標に対する達成状況(H)／(E) | R66: =AO65/AO60*100 -> 97.142857 | X66: ％ | BA66: 農地の集積（点数）
C68: 農業委員会の 点検結果 | L68: ○○○○ | BA68: =IF(R66>=110,5,IF(R66>=90,3,IF(90>R66,1))) -> 3
C69: ※1 今年度の新規集積面積は、当該年中の集積面積（フロー）を記入
C70: ※2 今年度末の集積面積（累計）は、年度末時点の集積面積（ストック）を記入
B72: （２）遊休農地の発生防止・解消
C73: ①現状及び課題
C74: 現状 | J74: 直近の利用状況調査により判明した遊休農地の状況
J75: １号遊休農地面積
W76: うち緑区分の遊休農地面積 | AJ76: うち黄区分の遊休農地面積
J77: =別紙様式１!J64 -> 100 | U77: ha | W77: =別紙様式１!W64 -> 50 | AH77: ha | AJ77: =別紙様式１!AJ64 -> 50 | AV77: ha
J78: =別紙様式１!J65 -> ○○○○○○○○
C80: ②目標
C81: ア 既存遊休農地の解消
C82: ａ 緑区分の遊休農地の解消
C83: 令和３年度の利用状況調査における緑区分の遊休農地面積 | AD83: =別紙様式１!AD70 -> 45 | AJ83: ha
C84: 緑区分の遊休農地の解消目標面積(C) | AD84: =別紙様式１!AD71 -> 9 | AJ84: ha
C85: ※ 緑区分の遊休農地の解消目標は、令和３年度の利用状況調査における緑区分の遊休農地面積の５分の１の面積を記入
C86: ｂ 黄区分の遊休農地の解消
C87: 令和３年度の利用状況調査における黄区分の遊休農地 | AD87: =別紙様式１!AD75 -> 50 | AJ87: ha
C88: 黄区分の遊休農地の解消のための工程表の策定方針 | N88: =別紙様式１!N76 -> ○○○○
C89: イ 新規発生遊休農地の解消
C90: 前年度に新規発生した緑区分の遊休農地の解消目標面積 | AD90: =別紙様式１!AD79 -> 5 | AJ90: ha
C92: ③実績
C93: ア 既存遊休農地の解消
C94: ａ 緑区分の遊休農地の解消
C95: 今年度の緑区分の遊休農地の解消実績面積(D) | AD95: 8 | AJ95: ha
C96: 今年度の目標に対する達成状況(D)／(C) | AD96: =IFERROR(AD95/AD84*100,0) -> 88.888889 | AJ96: ％
C97: ｂ 黄区分の遊休農地の解消
C98: 黄区分の遊休農地の解消に向けた工程表の策定状況 | N98: ○○○○
C99: イ 新規発生遊休農地の解消
C100: 前年度に新規発生した緑区分の遊休農地の解消実績面積 | AD100: 5 | AJ100: ha
C102: ④その他
C103: 農地の利用状況調査 | J103: 調査実施時期 | AA103: 調査結果取りまとめ時期
J104: 令和○年８月 | AA104: 令和○年10月
J105: 1号遊休農地の面積 | P105: 90 | U105: ha | W105: うち緑区分の遊休農地 | AK105: 38 | AP105: ha
W106: うち黄区分の遊休農地 | AK106: 45 | AP106: ha
C107: 農地の利用意向調査 | J107: 調査実施時期 | AA107: 調査結果取りまとめ時期
J108: 令和○年１１月 | AA108: 令和○年２月 | BA108: 緑区分の遊休農地の解消（点数）
C110: 農業委員会の 点検結果 | L110: ○○○○ | BA110: =IF(AD96>=110,5,IF(AD96>=90,3,IF(90>AD96,1))) -> 1
B112: （３）新規参入の促進
C113: ①現状及び課題
C114: 現状 | J114: =別紙様式１!J83 -> ○年度新規参入者 | W114: =別紙様式１!W83 -> ○年度新規参入者 | AJ114: =別紙様式１!AJ83 -> ○年度新規参入者
J115: =別紙様式１!$J$84 -> 3 | S115: 経営体 | W115: =別紙様式１!$W$84 -> 2 | AF115: 経営体 | AJ115: =別紙様式１!$AJ$84 -> 5 | AS115: 経営体
J116: =別紙様式１!$J$85 -> 4 | S116: ha | W116: =別紙様式１!$W$85 -> 3 | AF116: ha | AJ116: =別紙様式１!$AJ$85 -> 20 | AS116: ha
C117: 課題 | J117: =別紙様式１!J86 -> ○○○○○○○○
C118: ※ 現状欄は、直近３年度の新規参入した経営体数と当該経営体に集積した農地面積を記入
C120: ②目標
C121: 権利移動面積 | U121: =別紙様式１!U90 -> ○年度 | AB121: =別紙様式１!AB90 -> ○年度 | AI121: =別紙様式１!AI90 -> ○年度 | AP121: 平均
U122: =別紙様式１!$U$91 -> 200 | Z122: ha | AB122: =別紙様式１!$AB$91 -> 300 | AG122: ha | AI122: =別紙様式１!$AI$91 -> 100 | AN122: ha | AP122: =別紙様式１!$AP$91 -> 200 | AV122: ha
C123: 新規参入者への貸付等について農地所有者の同意を得た上で公表する農地の面積(A) | AG123: =別紙様式１!$AG$92 -> 20 | AK123: ha
...

Sheet 別紙様式５（Ⅲ事務の実施状況）
A2: Ⅲ 事務の実施状況
AA4: 都道府県名 | AI4: ： | AJ4: =別紙様式１!AM5 -> ○○県
AA5: 農業委員会名 | AI5: ： | AJ5: =別紙様式１!AM6 -> ○○市農業委員会
B7: １ 総会、部会の開催実績
I9: 4月 | K9: 5月 | M9: 6月 | O9: 7月 | Q9: 8月 | S9: 9月 | U9: 10月 | W9: 11月 | Y9: 12月 | AA9: 1月 | AC9: 2月 | AE9: 3月 | AG9: 備考（定例開催以外の理由）
C10: 総会 | I10: 1 | K10: 2 | M10: 1 | O10: 2 | Q10: 1 | S10: 1 | U10: 1 | W10: 1 | Y10: 1 | AA10: 1 | AC10: 1 | AE10: 1 | AG10: ５月：○○ ７月：△△
C11: ○○部会 | M11: 1 | S11: 1 | Y11: 1
C13: ※ 総会又は部会の月ごとの開催回数を記入
B15: ２ 農地法第３条に基づく許可事務
C17: １年間の処理件数 | Q17: 200 | V17: 件 | W17: うち許可 | AA17: 190 | AF17: 件
C18: 処理期間 | I18: 実施状況 | Q18: 標準処理期間 | W18: 申請書受理から | AC18: 20 | AE18: 日 | AF18: 処理期間（平均） | AM18: 14 | AQ18: 日
I19: 総会開催日の公表 | Q19: 公表している | AA19: 申請書締切日の公表 | AI19: 公表している
B21: ３ 農地転用に関する事務（意見を付して知事への送付）
C23: 権限移譲の状況 （当てはまるものに〇） | S23: ・農地法第４条第１項の規定に基づく指定市町村に指定
S24: ・地方自治法第252条の17の２第１項に基づき市町村長へ事務委任
S25: ・地方自治法第180条の２に基づき市町村長から農業委員会へ事務委任
C26: １年間の処理件数 | Q26: 100 | V26: 件 | W26: うち許可相当 | AC26: 95 | AF26: 件 | AH26: うち不許可相当 | AN26: 5 | AQ26: 件
C27: 処理期間 | Q27: 標準処理期間 | W27: 申請書受理から | AC27: 20 | AE27: 日 | AF27: 処理期間（平均） | AM27: 20 | AQ27: 日
B29: ４ 違反転用への対応
C31: 現 状 | L31: 管内の農地面積 | AB31: 年度末時点の違反転用面積
L32: =別紙様式５!AO64 -> 5000 | Y32: ha | AB32: 0.2 | AQ32: ha
C34: 違反転用解消のために実施した活動内容 | L34: ○○○○○
C35: 実 績 | L35: 違反転用解消面積 | W35: 0.1 | AD35: ha
C36: ※1 管内の農地面積は、耕地及び作付面積統計における耕地面積を記入
C37: ※2 違反転用面積は、管内で農地法第４条第１項又は第５条第１項の規定に違反して転用されている農地の 面積を記入
C39: ※3 活動内容は、違反転用の解消や早期発見･未然防止のために何月に何日何を行ったのか等について 具体的に記入

Sheet 別紙様式６
A1: =_xlfn.CONCAT(設定!$D$8,"の事務の実施状況") -> 令和○年度の事務の実施状況
W2: ：
A4: 農業委員会名 | B4: １ 総会・部会の開催実績 | E4: ２ 農地法第３条に基づく許可事務 | K4: ３ 農地転用に関する事務（意見を付して知事への送付） | O4: ４ 違反転用への対応
B5: 総会 開催数 | C5: 部会 | D5: 部会 開催数 | E5: １年間の 処理件数 | F5: うち 許可件数 | G5: 標準 処理期間 | H5: 処理期間 （平均） | I5: 総会開催日の公表状況 | J5: 申請書締切日の 公表状況 | K5: 権限移譲の状況 | L5: １年間の処理件数 | M5: 標準処理期間 | N5: 処理期間 （平均） | O5: 管内の 農地面積 | P5: 違反転用 面積 | Q5: 違反転用解消のために 実施した活動内容 | R5: 違反転用 解消面積
B6: 回 | C6: 設置数 | D6: 回 | E6: 件 | F6: 件 | G6: 日 | H6: 日 | I6: 公表の有無 | J6: 公表の有無 | L6: 件 | M6: 日 | N6: 日 | O6: ha | P6: ha | R6: ha
A7: ='別紙様式５（Ⅲ事務の実施状況）'!AJ5 -> ○○市農業委員会 | B7: =SUM('別紙様式５（Ⅲ事務の実施状況）'!I10:AF10) -> 14 | C7: =COUNTA('別紙様式５（Ⅲ事務の実施状況）'!C11:H12) -> 1 | D7: =SUM('別紙様式５（Ⅲ事務の実施状況）'!I11:AF12) -> 3 | E7: ='別紙様式５（Ⅲ事務の実施状況）'!Q17 -> 200 | F7: ='別紙様式５（Ⅲ事務の実施状況）'!AA17 -> 190 | G7: ='別紙様式５（Ⅲ事務の実施状況）'!AC18 -> 20 | H7: ='別紙様式５（Ⅲ事務の実施状況）'!AM18 -> 14 | I7: ='別紙様式５（Ⅲ事務の実施状況）'!Q19 -> 公表している | J7: ='別紙様式５（Ⅲ事務の実施状況）'!AI19 -> 公表している | K7: 都道府県知事 | L7: ='別紙様式５（Ⅲ事務の実施状況）'!Q26 -> 100 | M7: ='別紙様式５（Ⅲ事務の実施状況）'!AC27 -> 20 | N7: ='別紙様式５（Ⅲ事務の実施状況）'!AM27 -> 20 | O7: ='別紙様式５（Ⅲ事務の実施状況）'!L32 -> 5000 | P7: ='別紙様式５（Ⅲ事務の実施状況）'!AB32 -> 0.2 | Q7: ='別紙様式５（Ⅲ事務の実施状況）'!L34 -> ○○○○○ | R7: ='別紙様式５（Ⅲ事務の実施状況）'!W35 -> 0.1
A9: ※１ 権限移譲の状況欄は、農地転用許可の権限を有する者について、「都道府県知事」、「指定市町村」、「市町村長」、「農業委員会」のいずれかを記入
A10: ※２ 都道府県は、農業委員会から報告のあった本表を取りまとめて報告

Sheet （参考）目標設定状況報告様式
A3: =_xlfn.CONCAT(設定!$D$8," 農業委員会の最適化活動の目標設定状況等報告") -> 令和○年度 農業委員会の最適化活動の目標設定状況等報告
E5: Ⅰ農業委員会の状況 | G5: Ⅱ最適化活動の目標
E6: １農業委員会の現在の体制 | G6: １最適化活動の成果目標 | S6: ２ 最適化活動の活動目標
G7: （１）農地の集積 | M7: （２）遊休農地の解消 | Q7: （３）新規参入の促進 | S7: （１）推進委員等が最適化活動を行う日数目標 | V7: （２）活動強化月間の設定目標 | W7: （３）新規参入相談会への参加目標
G8: ①現状及び課題 | H8: ②目標 | M8: ①現状及び課題 | N8: ②目標 | Q8: ②目標
O9: ア既存遊休農地の解消 | P9: イ新規発生遊休農地の解消
O10: a緑区分の遊休農地の解消
A11: № | B11: 都道府県名 | C11: 市町村名 | D11: 農業委員会名 | E11: 農業委員数(実数)（人） | F11: 農地利用最適化推進委員数（実数）（人） | G11: 現状の 集積率(%) | H11: 集積の 目標年度 | I11: （目標年度の）集積率（％） | J11: 農地面積（Ａ） （ha） | K11: 今年度末の集積面積（累計）（Ｂ）（ha） | L11: （目標） 今年度末の集積率 (Ｂ／Ａ)（％） | M11: 直近（令和○年度）の利用状況調査による１号遊休農地面積のうち緑区分の遊休農地面積 （ha） | N11: 令和３年度の利用状況調査における緑区分の遊休農地面積 （Ｃ＝R3緑区分遊休農地－除外面積） （ha） | O11: 緑区分の遊休農地解消目標面積 （Ｃ÷５） （ha） | P11: 前年度（令和○年度）に新規発生した緑区分の遊休農地の解消目標面積（ha） | Q11: 過去３年度の権利移動面積の平均 （ha） | R11: 新規参入者への貸付等について農地所有者の同意を得た上で公表する農地の面積（ha） | S11: 一人当たりの活動日数目標(日/月) | T11: 最適化活動を行う農業委員の人数（人） | U11: 農地利用最適化推進委員の人数（人） | V11: 活動強化月間の 設定回数（回） | W11: 新規参入相談会への 参加回数（回）
A12: 例 | B12: ○○県 | C12: ○○市 | D12: ○○農業委員会 | E12: 5 | F12: 10 | G12: 70 | H12: 令和７年度 | I12: 80 | J12: 1000 | K12: 750 | L12: 75 | M12: 50 | N12: 45 | O12: 9 | P12: 5 | Q12: 30 | R12: 3 | S12: 10 | T12: 5 | U12: 10 | V12: 3 | W12: 8
A13: 1 | B13: =別紙様式１!AM5 -> ○○県 | C13: =設定!$D$6 -> ○○市 | D13: =別紙様式１!AM6 -> ○○市農業委員会 | E13: =別紙様式１!P16 -> 19 | F13: =別紙様式１!AM15 -> 18 | G13: =別紙様式１!AJ47 -> 60 | H13: =別紙様式１!R54 -> 令和８ | I13: =別紙様式１!AO54 -> 80 | J13: =別紙様式１!AO55 -> 5000 | K13: =別紙様式１!R56 -> 3500 | L13: =別紙様式１!AO56 -> 70 | M13: =別紙様式１!W64 -> 50 | N13: =別紙様式１!AD70 -> 45 | O13: =別紙様式１!AD71 -> 9 | P13: =別紙様式１!AD79 -> 5 | Q13: =別紙様式１!AP91 -> 200 | R13: =別紙様式１!AG92 -> 20 | S13: =別紙様式１!P99 -> 10 | T13: =別紙様式１!AL99 -> 10 | U13: =別紙様式１!AL100 -> 18 | V13: =別紙様式１!Y104 -> 3 | W13: =別紙様式１!Y117 -> 2
A14: 2
A15: 3
A16: 4
A17: 5
A18: 6
A19: 7
A20: 8
A21: 9
A22: 10
A25: （記載注意）
A26: ① セルの結合、分割等様式の改変を行わないこと。
A27: ② セル内に単位の記載は不要。

Sheet リスト
A2: 令和○年度 | B2: ○○県 | D2: 北海道 | E2: 青森県 | F2: 岩手県 | G2: 宮城県 | H2: 秋田県 | I2: 山形県 | J2: 福島県 | K2: 茨城県 | L2: 栃木県 | M2: 群馬県 | N2: 埼玉県 | O2: 千葉県 | P2: 東京都 | Q2: 神奈川県 | R2: 新潟県 | S2: 富山県 | T2: 石川県 | U2: 福井県 | V2: 山梨県 | W2: 長野県 | X2: 岐阜県 | Y2: 静岡県 | Z2: 愛知県 | AA2: 三重県 | AB2: 滋賀県 | AC2: 京都府 | AD2: 大阪府 | AE2: 兵庫県 | AF2: 奈良県 | AG2: 和歌山県 | AH2: 鳥取県 | AI2: 島根県 | AJ2: 岡山県 | AK2: 広島県 | AL2: 山口県 | AM2: 徳島県 | AN2: 香川県 | AO2: 愛媛県 | AP2: 高知県 | AQ2: 福岡県 | AR2: 佐賀県 | AS2: 長崎県 | AT2: 熊本県 | AU2: 大分県 | AV2: 宮崎県 | AW2: 鹿児島県 | AX2: 沖縄県 | AY2: ○○県
A3: 令和６年度 | B3: 北海道 | D3: 札幌市 | E3: 青森市 | F3: 盛岡市 | G3: 仙台市 | H3: 秋田市 | I3: 山形市 | J3: 福島市 | K3: 水戸市 | L3: 宇都宮市 | M3: 前橋市 | N3: さいたま市 | O3: 千葉市 | P3: 千代田区 | Q3: 横浜市中央 | R3: 新潟市 | S3: 富山市 | T3: 金沢市 | U3: 福井市 | V3: 甲府市 | W3: 長野市 | X3: 岐阜市 | Y3: 静岡市 | Z3: 名古屋市 | AA3: 津市 | AB3: 大津市 | AC3: 京都市 | AD3: 大阪市 | AE3: 神戸市 | AF3: 奈良市 | AG3: 和歌山市 | AH3: 鳥取市 | AI3: 松江市 | AJ3: 岡山市第一 | AK3: 広島市 | AL3: 下関市 | AM3: 徳島市 | AN3: 高松市 | AO3: 松山市 | AP3: 高知市 | AQ3: 北九州市 | AR3: 佐賀市 | AS3: 長崎市 | AT3: 熊本市 | AU3: 大分市 | AV3: 宮崎市 | AW3: 鹿児島市 | AX3: 那覇市 | AY3: ○○市
A4: 令和７年度 | B4: 青森県 | D4: 函館市 | E4: 弘前市 | F4: 宮古市 | G4: 石巻市 | H4: 能代市 | I4: 米沢市 | J4: 会津若松市 | K4: 日立市 | L4: 足利市 | M4: 高崎市 | N4: 川越市 | O4: 銚子市 | P4: 中央区 | Q4: 横浜市南西部 | R4: 長岡市 | S4: 高岡市 | T4: 七尾市 | U4: 敦賀市 | V4: 富士吉田市 | W4: 松本市 | X4: 大垣市 | Y4: 浜松市 | Z4: 豊橋市 | AA4: 四日市市 | AB4: 彦根市 | AC4: 福知山市 | AD4: 堺市 | AE4: 姫路市 | AF4: 大和高田市 | AG4: 海南市 | AH4: 米子市 | AI4: 浜田市 | AJ4: 岡山市第二 | AK4: 呉市 | AL4: 宇部市 | AM4: 鳴門市 | AN4: 丸亀市 | AO4: 今治市 | AP4: 室戸市 | AQ4: 福岡市 | AR4: 唐津市 | AS4: 佐世保市 | AT4: 八代市 | AU4: 別府市 | AV4: 都城市 | AW4: 鹿屋市 | AX4: 宜野湾市
A5: 令和８年度 | B5: 岩手県 | D5: 小樽市 | E5: 八戸市 | F5: 大船渡市 | G5: 塩竈市 | H5: 横手市 | I5: 鶴岡市 | J5: 郡山市 | K5: 土浦市 | L5: 栃木市 | M5: 桐生市 | N5: 熊谷市 | O5: 市川市 | P5: 港区 | Q5: 川崎市 | R5: 三条市 | S5: 魚津市 | T5: 小松市 | U5: 小浜市 | V5: 都留市 | W5: 上田市 | X5: 高山市 | Y5: 沼津市 | Z5: 岡崎市 | AA5: 伊勢市 | AB5: 長浜市 | AC5: 舞鶴市 | AD5: 岸和田市 | AE5: 尼崎市 | AF5: 大和郡山市 | AG5: 橋本市 | AH5: 倉吉市 | AI5: 出雲市 | AJ5: 倉敷市 | AK5: 竹原市 | AL5: 山口市 | AM5: 小松島市 | AN5: 坂出市 | AO5: 宇和島市 | AP5: 安芸市 | AQ5: 大牟田市 | AR5: 鳥栖市 | AS5: 島原市 | AT5: 人吉市 | AU5: 中津市 | AV5: 延岡市 | AW5: 枕崎市 | AX5: 石垣市
A6: 令和９年度 | B6: 宮城県 | D6: 旭川市 | E6: 黒石市 | F6: 花巻市 | G6: 気仙沼市 | H6: 大館市 | I6: 酒田市 | J6: いわき市 | K6: 古河市 | L6: 佐野市 | M6: 伊勢崎市 | N6: 川口市 | O6: 船橋市 | P6: 新宿区 | Q6: 相模原市 | R6: 柏崎市 | S6: 氷見市 | T6: 輪島市 | U6: 大野市 | V6: 山梨市 | W6: 岡谷市 | X6: 多治見市 | Y6: 熱海市 | Z6: 一宮市 | AA6: 松阪市 | AB6: 近江八幡市 | AC6: 綾部市 | AD6: 豊中市 | AE6: 明石市 | AF6: 天理市 | AG6: 有田市 | AH6: 境港市 | AI6: 益田市 | AJ6: 津山市 | AK6: 三原市 | AL6: 萩市 | AM6: 阿南市 | AN6: 善通寺市 | AO6: 八幡浜市 | AP6: 南国市 | AQ6: 久留米市 | AR6: 多久市 | AS6: 諫早市 | AT6: 荒尾市 | AU6: 日田市 | AV6: 日南市 | AW6: 阿久根市 | AX6: 浦添市
A7: 令和10年度 | B7: 秋田県 | D7: 室蘭市 | E7: 五所川原市 | F7: 北上市 | G7: 白石市 | H7: 男鹿市 | I7: 新庄市 | J7: 白河市 | K7: 石岡市 | L7: 鹿沼市 | M7: 太田市 | N7: 行田市 | O7: 館山市 | P7: 文京区 | Q7: 横須賀市 | R7: 新発田市 | S7: 滑川市 | T7: 珠洲市 | U7: 勝山市 | V7: 大月市 | W7: 飯田市 | X7: 関市 | Y7: 三島市 | Z7: 瀬戸市 | AA7: 桑名市 | AB7: 草津市 | AC7: 宇治市 | AD7: 池田市 | AE7: 西宮市 | AF7: 橿原市 | AG7: 御坊市 | AH7: 岩美町 | AI7: 大田市 | AJ7: 玉野市 | AK7: 尾道市 | AL7: 防府市 | AM7: 吉野川市 | AN7: 観音寺市 | AO7: 新居浜市 | AP7: 土佐市 | AQ7: 直方市 | AR7: 伊万里市 | AS7: 大村市 | AT7: 水俣市 | AU7: 佐伯市 | AV7: 小林市 | AW7: 出水市 | AX7: 名護市
A8: 令和11年度 | B8: 山形県 | D8: 釧路市 | E8: 十和田市 | F8: 久慈市 | G8: 名取市 | H8: 湯沢市 | I8: 寒河江市 | J8: 須賀川市 | K8: 結城市 | L8: 日光市 | M8: 沼田市 | N8: 秩父市 | O8: 木更津市 | P8: 台東区 | Q8: 平塚市 | R8: 小千谷市 | S8: 黒部市 | T8: 加賀市 | U8: 鯖江市 | V8: 韮崎市 | W8: 諏訪市 | X8: 中津川市 | Y8: 富士宮市 | Z8: 半田市 | AA8: 鈴鹿市 | AB8: 守山市 | AC8: 宮津市 | AD8: 吹田市 | AE8: 洲本市 | AF8: 桜井市 | AG8: 田辺市 | AH8: 若桜町 | AI8: 安来市 | AJ8: 笠岡市 | AK8: 福山市 | AL8: 下松市 | AM8: 阿波市 | AN8: さぬき市 | AO8: 西条市 | AP8: 須崎市 | AQ8: 飯塚市 | AR8: 武雄市 | AS8: 平戸市 | AT8: 玉名市 | AU8: 臼杵市 | AV8: 日向市 | AW8: 指宿市 | AX8: 糸満市
A9: 令和12年度 | B9: 福島県 | D9: 帯広市 | E9: 三沢市 | F9: 遠野市 | G9: 角田市 | H9: 鹿角市 | I9: 上山市 | J9: 喜多方市 | K9: 龍ケ崎市 | L9: 小山市 | M9: 館林市 | N9: 所沢市 | O9: 松戸市 | P9: 墨田区 | Q9: 鎌倉市 | R9: 加茂市 | S9: 砺波市 | T9: 羽咋市 | U9: あわら市 | V9: 南アルプス市 | W9: 須坂市 | X9: 美濃市 | Y9: 伊東市 | Z9: 春日井市 | AA9: 名張市 | AB9: 栗東市 | AC9: 亀岡市 | AD9: 泉大津市 | AE9: 芦屋市 | AF9: 五條市 | AG9: 新宮市 | AH9: 智頭町 | AI9: 江津市 | AJ9: 井原市 | AK9: 府中市 | AL9: 岩国市 | AM9: 美馬市 | AN9: 東かがわ市 | AO9: 大洲市 | AP9: 宿毛市 | AQ9: 田川市 | AR9: 鹿島市 | AS9: 松浦市 | AT9: 山鹿市 | AU9: 津久見市 | AV9: 串間市 | AW9: 西之表市 | AX9: 沖縄市
A10: 令和13年度 | B10: 茨城県 | D10: 北見市第一 | E10: むつ市 | F10: 一関市 | G10: 多賀城市 | H10: 由利本荘市 | I10: 村山市 | J10: 相馬市 | K10: 下妻市 | L10: 真岡市 | M10: 渋川市 | N10: 飯能市 | O10: 野田市 | P10: 江東区 | Q10: 藤沢市 | R10: 十日町市 | S10: 小矢部市 | T10: かほく市 | U10: 越前市 | V10: 北杜市 | W10: 小諸市 | X10: 瑞浪市 | Y10: 島田市 | Z10: 豊川市 | AA10: 尾鷲市 | AB10: 甲賀市 | AC10: 城陽市 | AD10: 高槻市 | AE10: 伊丹市 | AF10: 御所市 | AG10: 紀の川市 | AH10: 八頭町 | AI10: 雲南市 | AJ10: 総社市 | AK10: 三次市 | AL10: 光市 | AM10: 三好市 | AN10: 三豊市 | AO10: 伊予市 | AP10: 土佐清水市 | AQ10: 柳川市 | AR10: 小城市 | AS10: 対馬市 | AT10: 菊池市 | AU10: 竹田市 | AV10: 西都市 | AW10: 垂水市 | AX10: 豊見城市
A11: 令和14年度 | B11: 栃木県 | D11: 北見市第二 | E11: つがる市 | F11: 陸前高田市 | G11: 岩沼市 | H11: 潟上市 | I11: 長井市 | J11: 二本松市 | K11: 常総市 | L11: 大田原市 | M11: 藤岡市 | N11: 加須市 | O11: 茂原市 | P11: 品川区 | Q11: 小田原市 | R11: 見附市 | S11: 南砺市 | T11: 白山市 | U11: 坂井市 | V11: 甲斐市 | W11: 伊那市 | X11: 羽島市 | Y11: 富士市 | Z11: 津島市 | AA11: 亀山市 | AB11: 野洲市 | AC11: 向日市 | AD11: 貝塚市 | AE11: 相生市 | AF11: 生駒市 | AG11: 岩出市 | AH11: 三朝町 | AI11: 奥出雲町 | AJ11: 高梁市 | AK11: 庄原市 | AL11: 長門市 | AM11: 勝浦町 | AN11: 土庄町 | AO11: 四国中央市 | AP11: 四万十市 | AQ11: 八女市 | AR11: 嬉野市 | AS11: 壱岐市 | AT11: 宇土市 | AU11: 豊後高田市 | AV11: えびの市 | AW11: 薩摩川内市 | AX11: うるま市
A12: 令和15年度 | B12: 群馬県 | D12: 夕張市 | E12: 平川市 | F12: 釜石市 | G12: 登米市 | H12: 大仙市 | I12: 天童市 | J12: 田村市 | K12: 常陸太田市 | L12: 矢板市 | M12: 富岡市 | N12: 本庄市 | O12: 成田市 | P12: 目黒区 | Q12: 茅ヶ崎市 | R12: 村上市 | S12: 射水市 | T12: 能美市 | U12: 永平寺町 | V12: 笛吹市 | W12: 駒ヶ根市 | X12: 恵那市 | Y12: 磐田市 | Z12: 碧南市 | AA12: 鳥羽市 | AB12: 湖南市 | AC12: 長岡京市 | AD12: 守口市 | AE12: 豊岡市 | AF12: 香芝市 | AG12: 紀美野町 | AH12: 湯梨浜町 | AI12: 飯南町 | AJ12: 新見市 | AK12: 大竹市 | AL12: 柳井市 | AM12: 上勝町 | AN12: 小豆島町 | AO12: 西予市 | AP12: 香南市 | AQ12: 筑後市 | AR12: 神埼市 | AS12: 五島市 | AT12: 上天草市 | AU12: 杵築市 | AV12: 三股町 | AW12: 日置市 | AX12: 宮古島市
B13: 埼玉県 | D13: 岩見沢市 | E13: 平内町 | F13: 二戸市 | G13: 栗原市 | H13: 北秋田市 | I13: 東根市 | J13: 南相馬市 | K13: 高萩市 | L13: 那須塩原市 | M13: 安中市 | N13: 東松山市 | O13: 佐倉市 | P13: 大田区 | Q13: 逗子市 | R13: 燕市 | S13: 舟橋村 | T13: 野々市市 | U13: 池田町 | V13: 上野原市 | W13: 中野市 | X13: 美濃加茂市 | Y13: 焼津市 | Z13: 刈谷市 | AA13: 熊野市 | AB13: 高島市 | AC13: 八幡市 | AD13: 枚方市 | AE13: 加古川市 | AF13: 葛城市 | AG13: かつらぎ町 | AH13: 琴浦町 | AI13: 川本町 | AJ13: 備前市 | AK13: 東広島市 | AL13: 美祢市 | AM13: 佐那河内村 | AN13: 三木町 | AO13: 東温市 | AP13: 香美市 | AQ13: 大川市 | AR13: 吉野ヶ里町 | AS13: 西海市 | AT13: 宇城市 | AU13: 宇佐市 | AV13: 高原町 | AW13: 曽於市 | AX13: 南城市
B14: 千葉県 | D14: 網走市 | E14: 今別町 | F14: 八幡平市 | G14: 東松島市 | H14: にかほ市 | I14: 尾花沢市 | J14: 伊達市 | K14: 北茨城市 | L14: さくら市 | M14: みどり市 | N14: 春日部市 | O14: 東金市 | P14: 世田谷区 | Q14: 三浦市 | R14: 糸魚川市 | S14: 上市町 | T14: 川北町 | U14: 南越前町 | V14: 甲州市 | W14: 大町市 | X14: 土岐市 | Y14: 掛川市 | Z14: 豊田市 | AA14: いなべ市 | AB14: 東近江市 | AC14: 京田辺市 | AD14: 茨木市 | AE14: 赤穂市 | AF14: 宇陀市 | AG14: 九度山町 | AH14: 北栄町 | AI14: 美郷町 | AJ14: 瀬戸内市 | AK14: 廿日市市 | AL14: 周南市 | AM14: 石井町 | AN14: 直島町 | AO14: 上島町 | AP14: 東洋町 | AQ14: 行橋市 | AR14: 基山町 | AS14: 雲仙市 | AT14: 阿蘇市 | AU14: 豊後大野市 | AV14: 国富町 | AW14: 霧島市 | AX14: 国頭村
B15: 東京都 | D15: 留萌市 | E15: 蓬田村 | F15: 奥州市 | G15: 大崎市 | H15: 仙北市 | I15: 南陽市 | J15: 本宮市 | K15: 笠間市 | L15: 那須烏山市 | M15: 榛東村 | N15: 狭山市 | O15: 旭市 | P15: 渋谷区 | Q15: 秦野市 | R15: 妙高市 | S15: 立山町 | T15: 津幡町 | U15: 越前町 | V15: 中央市 | W15: 飯山市 | X15: 各務原市 | Y15: 藤枝市 | Z15: 安城市 | AA15: 志摩市 | AB15: 米原市 | AC15: 京丹後市 | AD15: 八尾市 | AE15: 西脇市 | AF15: 山添村 | AG15: 高野町 | AH15: 日吉津村 | AI15: 邑南町 | AJ15: 赤磐市 | AK15: 安芸高田市 | AL15: 山陽小野田市 | AM15: 神山町 | AN15: 宇多津町 | AO15: 久万高原町 | AP15: 奈半利町 | AQ15: 豊前市 | AR15: 上峰町 | AS15: 南島原市 | AT15: 天草市 | AU15: 由布市 | AV15: 綾町 | AW15: いちき串木野市 | AX15: 大宜味村
B16: 神奈川県 | D16: 苫小牧市 | E16: 外ヶ浜町 | F16: 滝沢市 | G16: 富谷市 | H16: 小坂町 | I16: 山辺町 | J16: 桑折町 | K16: 取手市 | L16: 下野市 | M16: 吉岡町 | N16: 羽生市 | O16: 習志野市 | P16: 中野区 | Q16: 厚木市 | R16: 五泉市 | S16: 入善町 | T16: 内灘町 | U16: 美浜町 | V16: 市川三郷町 | W16: 茅野市 | X16: 可児市 | Y16: 御殿場市 | Z16: 西尾市 | AA16: 伊賀市 | AB16: 日野町 | AC16: 南丹市 | AD16: 泉佐野市 | AE16: 宝塚市 | AF16: 平群町 | AG16: 湯浅町 | AH16: 大山町 | AI16: 津和野町 | AJ16: 真庭市 | AK16: 江田島市 | AL16: 周防大島町 | AM16: 那賀町 | AN16: 綾川町 | AO16: 松前町 | AP16: 田野町 | AQ16: 中間市 | AR16: みやき町 | AS16: 長与町 | AT16: 合志市 | AU16: 国東市 | AV16: 高鍋町 | AW16: 南さつま市 | AX16: 東村
B17: 新潟県 | D17: 稚内市 | E17: 鰺ヶ沢町 | F17: 雫石町 | G17: 蔵王町 | H17: 上小阿仁村 | I17: 中山町 | J17: 国見町 | K17: 牛久市 | L17: 上三川町 | M17: 上野村 | N17: 鴻巣市 | O17: 柏市 | P17: 杉並区 | Q17: 大和市 | R17: 上越市 | S17: 朝日町 | T17: 志賀町 | U17: 高浜町 | V17: 早川町 | W17: 塩尻市 | X17: 山県市 | Y17: 袋井市 | Z17: 蒲郡市 | AA17: 木曽岬町 | AB17: 竜王町 | AC17: 木津川市 | AD17: 富田林市 | AE17: 三木市 | AF17: 三郷町 | AG17: 広川町 | AH17: 南部町 | AI17: 吉賀町 | AJ17: 美作市 | AK17: 府中町 | AL17: 和木町 | AM17: 牟岐町 | AN17: 琴平町 | AO17: 砥部町 | AP17: 安田町 | AQ17: 小郡市 | AR17: 玄海町 | AS17: 時津町 | AT17: 美里町 | AU17: 姫島村 | AV17: 新富町 | AW17: 志布志市 | AX17: 今帰仁村
B18: 富山県 | D18: 美唄市 | E18: 深浦町 | F18: 葛巻町 | G18: 七ヶ宿町 | H18: 藤里町 | I18: 河北町 | J18: 川俣町 | K18: つくば市 | L18: 益子町 | M18: 神流町 | N18: 深谷市 | O18: 勝浦市 | P18: 豊島区 | Q18: 伊勢原市 | R18: 阿賀野市 | T18: 宝達志水町 | U18: おおい町 | V18: 身延町 | W18: 佐久市 | X18: 瑞穂市 | Y18: 下田市 | Z18: 犬山市 | AA18: 東員町 | AB18: 愛荘町 | AC18: 大山崎町 | AD18: 寝屋川市 | AE18: 高砂市 | AF18: 斑鳩町 | AG18: 有田川町 | AH18: 伯耆町 | AI18: 海士町 | AJ18: 浅口市 | AK18: 海田町 | AL18: 上関町 | AM18: 美波町 | AN18: 多度津町 | AO18: 内子町 | AP18: 北川村 | AQ18: 筑紫野市 | AR18: 有田町 | AS18: 東彼杵町 | AT18: 玉東町 | AU18: 日出町 | AV18: 西米良村 | AW18: 奄美市 | AX18: 本部町
B19: 石川県 | D19: 芦別市 | E19: 西目屋村 | F19: 岩手町 | G19: 大河原町 | H19: 三種町 | I19: 西川町 | J19: 大玉村 | K19: ひたちなか市 | L19: 茂木町 | M19: 下仁田町 | N19: 上尾市 | O19: 市原市 | P19: 北区 | Q19: 海老名市 | R19: 佐渡市 | T19: 中能登町 | U19: 若狭町 | V19: 南部町 | W19: 千曲市 | X19: 飛騨市 | Y19: 裾野市 | Z19: 常滑市 | AA19: 菰野町 | AB19: 豊郷町 | AC19: 久御山町 | AD19: 河内長野市 | AE19: 川西市 | AF19: 安堵町 | AG19: 美浜町 | AH19: 日南町 | AI19: 西ノ島町 | AJ19: 和気町 | AK19: 熊野町 | AL19: 田布施町 | AM19: 海陽町 | AN19: まんのう町 | AO19: 伊方町 | AP19: 馬路村 | AQ19: 春日市 | AR19: 大町町 | AS19: 川棚町 | AT19: 南関町 | AU19: 九重町 | AV19: 木城町 | AW19: 南九州市 | AX19: 恩納村
B20: 福井県 | D20: 江別市 | E20: 藤崎町 | F20: 紫波町 | G20: 村田町 | H20: 八峰町 | I20: 朝日町 | J20: 鏡石町 | K20: 鹿嶋市 | L20: 市貝町 | M20: 南牧村 | N20: 草加市 | O20: 流山市 | P20: 荒川区 | Q20: 座間市 | R20: 魚沼市 | T20: 穴水町 | V20: 富士川町 | W20: 東御市 | X20: 本巣市 | Y20: 湖西市 | Z20: 江南市 | AA20: 朝日町 | AB20: 甲良町 | AC20: 井手町 | AD20: 松原市 | AE20: 小野市 | AF20: 川西町 | AG20: 日高町 | AH20: 日野町 | AI20: 知夫村 | AJ20: 早島町 | AK20: 坂町 | AL20: 平生町 | AM20: 松茂町 | AO20: 松野町 | AP20: 芸西村 | AQ20: 大野城市 | AR20: 江北町 | AS20: 波佐見町 | AT20: 長洲町 | AU20: 玖珠町 | AV20: 川南町 | AW20: 伊佐市 | AX20: 宜野座村
B21: 山梨県 | D21: 赤平市 | E21: 大鰐町 | F21: 矢巾町 | G21: 柴田町 | H21: 五城目町 | I21: 大江町 | J21: 天栄村 | K21: 潮来市 | L21: 芳賀町 | M21: 甘楽町 | N21: 越谷市 | O21: 八千代市 | P21: 板橋区 | Q21: 南足柄市 | R21: 南魚沼市 | T21: 能登町 | V21: 昭和町 | W21: 安曇野市 | X21: 郡上市 | Y21: 伊豆市 | Z21: 小牧市 | AA21: 川越町 | AB21: 多賀町 | AC21: 宇治田原町 | AD21: 大東市 | AE21: 三田市 | AF21: 三宅町 | AG21: 由良町 | AH21: 江府町 | AI21: 隠岐の島町 | AJ21: 里庄町 | AK21: 安芸太田町 | AL21: 阿武町 | AM21: 北島町 | AO21: 鬼北町 | AP21: 本山町 | AQ21: 宗像市 | AR21: 白石町 | AS21: 小値賀町 | AT21: 和水町 | AV21: 都農町 | AW21: 姶良市 | AX21: 金武町
B22: 長野県 | D22: 紋別市 | E22: 田舎館村 | F22: 西和賀町 | G22: 川崎町 | H22: 八郎潟町 | I22: 大石田町 | J22: 下郷町 | K22: 守谷市 | L22: 壬生町 | M22: 中之条町 | N22: 蕨市 | O22: 我孫子市 | P22: 練馬区 | Q22: 綾瀬市 | R22: 胎内市 | V22: 道志村 | W22: 小海町 | X22: 下呂市 | Y22: 御前崎市 | Z22: 稲沢市 | AA22: 多気町 | AC22: 笠置町 | AD22: 和泉市 | AE22: 加西市 | AF22: 田原本町 | AG22: 印南町 | AJ22: 矢掛町 | AK22: 北広島町 | AM22: 藍住町 | AO22: 愛南町 | AP22: 大豊町 | AQ22: 太宰府市 | AR22: 太良町 | AS22: 佐々町 | AT22: 大津町 | AV22: 門川町 | AW22: 三島村 | AX22: 伊江村
B23: 岐阜県 | D23: 士別市 | E23: 板柳町 | F23: 金ケ崎町 | G23: 丸森町 | H23: 井川町 | I23: 金山町 | J23: 檜枝岐村 | K23: 常陸大宮市 | L23: 野木町 | M23: 長野原町 | N23: 戸田市 | O23: 鴨川市 | P23: 足立区 | Q23: 葉山町 | R23: 聖籠町 | V23: 西桂町 | W23: 川上村 | X23: 海津市 | Y23: 菊川市 | Z23: 新城市 | AA23: 明和町 | AC23: 和束町 | AD23: 箕面市 | AE23: 丹波篠山市 | AF23: 曽爾村 | AG23: みなべ町 | AJ23: 新庄村 | AK23: 大崎上島町 | AM23: 板野町 | AP23: 土佐町 | AQ23: 古賀市 | AS23: 新上五島町 | AT23: 菊陽町 | AV23: 諸塚村 | AW23: 十島村 | AX23: 読谷村
B24: 静岡県 | D24: 名寄市 | E24: 鶴田町 | F24: 平泉町 | G24: 亘理町 | H24: 大潟村 | I24: 最上町 | J24: 只見町 | K24: 那珂市 | L24: 塩谷町 | M24: 嬬恋村 | N24: 入間市 | O24: 鎌ケ谷市 | P24: 葛飾区 | Q24: 寒川町 | R24: 弥彦村 | V24: 忍野村 | W24: 南牧村 | X24: 岐南町 | Y24: 伊豆の国市 | Z24: 東海市 | AA24: 大台町 | AC24: 精華町 | AD24: 柏原市 | AE24: 養父市 | AF24: 御杖村 | AG24: 日高川町 | AJ24: 鏡野町 | AK24: 世羅町 | AM24: 上板町 | AP24: 大川村 | AQ24: 福津市 | AT24: 南小国町 | AV24: 椎葉村 | AW24: さつま町 | AX24: 嘉手納町
B25: 愛知県 | D25: 三笠市 | E25: 中泊町 | F25: 住田町 | G25: 山元町 | H25: 美郷町 | I25: 舟形町 | J25: 南会津町 | K25: 筑西市 | L25: 高根沢町 | M25: 草津町 | N25: 朝霞市 | O25: 君津市 | P25: 江戸川区 | Q25: 大磯町 | R25: 田上町 | V25: 山中湖村 | W25: 南相木村 | X25: 笠松町 | Y25: 牧之原市 | Z25: 大府市 | AA25: 玉城町 | AC25: 南山城村 | AD25: 羽曳野市 | AE25: 丹波市 | AF25: 高取町 | AG25: 白浜町 | AJ25: 勝央町 | AK25: 神石高原町 | AM25: つるぎ町 | AP25: いの町 | AQ25: うきは市 | AT25: 小国町 | AV25: 美郷町 | AW25: 長島町 | AX25: 北谷町
B26: 三重県 | D26: 根室市 | E26: 野辺地町 | F26: 大槌町 | G26: 松島町 | H26: 羽後町 | I26: 真室川町 | J26: 北塩原村 | K26: 坂東市 | L26: 那須町 | M26: 高山村 | N26: 志木市 | O26: 富津市 | P26: 八王子市 | Q26: 二宮町 | R26: 阿賀町 | V26: 鳴沢村 | W26: 北相木村 | X26: 養老町 | Y26: 東伊豆町 | Z26: 知多市 | AA26: 度会町 | AC26: 京丹波町 | AD26: 門真市 | AE26: 南あわじ市 | AF26: 明日香村 | AG26: 上富田町 | AJ26: 奈義町 | AM26: 東みよし町 | AP26: 仁淀川町 | AQ26: 宮若市 | AT26: 産山村 | AV26: 高千穂町 | AW26: 湧水町 | AX26: 北中城村
B27: 滋賀県 | D27: 千歳市 | E27: 七戸町 | F27: 山田町 | G27: 七ヶ浜町 | H27: 東成瀬村 | I27: 大蔵村 | J27: 西会津町 | K27: 稲敷市 | L27: 那珂川町 | M27: 東吾妻町 | N27: 和光市 | O27: 浦安市 | P27: 立川市 | Q27: 中井町 | R27: 出雲崎町 | V27: 富士河口湖町 | W27: 佐久穂町 | X27: 垂井町 | Y27: 河津町 | Z27: 知立市 | AA27: 大紀町 | AC27: 伊根町 | AD27: 摂津市 | AE27: 朝来市 | AF27: 上牧町 | AG27: すさみ町 | AJ27: 西粟倉村 | AP27: 中土佐町 | AQ27: 嘉麻市 | AT27: 高森町 | AV27: 日之影町 | AW27: 大崎町 | AX27: 中城村
B28: 京都府 | D28: 滝川市 | E28: 六戸町 | F28: 岩泉町 | G28: 利府町 | I28: 鮭川村 | J28: 磐梯町 | K28: かすみがうら市 | M28: 片品村 | N28: 新座市 | O28: 四街道市 | P28: 武蔵野市 | Q28: 大井町 | R28: 湯沢町 | V28: 小菅村 | W28: 軽井沢町 | X28: 関ケ原町 | Y28: 南伊豆町 | Z28: 尾張旭市 | AA28: 南伊勢町 | AC28: 与謝野町 | AD28: 高石市 | AE28: 淡路市 | AF28: 王寺町 | AG28: 那智勝浦町 | AJ28: 久米南町 | AP28: 佐川町 | AQ28: 朝倉市 | AT28: 西原村 | AV28: 五ヶ瀬町 | AW28: 東串良町 | AX28: 西原町
B29: 大阪府 | D29: 砂川市 | E29: 横浜町 | F29: 田野畑村 | G29: 大和町 | I29: 戸沢村 | J29: 猪苗代町 | K29: 桜川市 | M29: 川場村 | N29: 桶川市 | O29: 袖ケ浦市 | P29: 三鷹市 | Q29: 松田町 | R29: 津南町 | V29: 丹波山村 | W29: 御代田町 | X29: 神戸町 | Y29: 松崎町 | Z29: 高浜市 | AA29: 紀北町 | AD29: 藤井寺市 | AE29: 宍粟市 | AF29: 広陵町 | AG29: 太地町 | AJ29: 美咲町 | AP29: 越知町 | AQ29: みやま市 | AT29: 南阿蘇村 | AW29: 錦江町 | AX29: 与那原町
B30: 兵庫県 | D30: 歌志内市 | E30: 東北町 | F30: 普代村 | G30: 大郷町 | I30: 高畠町 | J30: 会津坂下町 | K30: 神栖市 | M30: 昭和村 | N30: 久喜市 | O30: 八街市 | P30: 青梅市 | Q30: 山北町 | R30: 刈羽村 | W30: 立科町 | X30: 輪之内町 | Y30: 西伊豆町 | Z30: 岩倉市 | AA30: 御浜町 | AD30: 東大阪市 | AE30: 加東市 | AF30: 河合町 | AG30: 古座川町 | AJ30: 吉備中央町 | AP30: 梼原町 | AQ30: 糸島市 | AT30: 御船町 | AW30: 南大隅町 | AX30: 南風原町
B31: 奈良県 | D31: 深川市 | E31: 六ヶ所村 | F31: 軽米町 | G31: 大衡村 | I31: 川西町 | J31: 湯川村 | K31: 行方市 | M31: みなかみ町 | N31: 北本市 | O31: 印西市 | P31: 府中市 | Q31: 開成町 | R31: 関川村 | W31: 青木村 | X31: 安八町 | Y31: 函南町 | Z31: 豊明市 | AA31: 紀宝町 | AD31: 泉南市 | AE31: たつの市 | AF31: 吉野町 | AG31: 北山村 | AP31: 日高村 | AQ31: 那珂川市 | AT31: 嘉島町 | AW31: 肝付町 | AX31: 渡嘉敷村
B32: 和歌山県 | D32: 富良野市 | E32: おいらせ町 | F32: 野田村 | G32: 色麻町 | I32: 小国町 | J32: 柳津町 | K32: 鉾田市 | M32: 玉村町 | N32: 八潮市 | O32: 白井市 | P32: 昭島市 | Q32: 箱根町 | R32: 粟島浦村 | W32: 長和町 | X32: 揖斐川町 | Y32: 清水町 | Z32: 日進市 | AD32: 四條畷市 | AE32: 猪名川町 | AF32: 大淀町 | AG32: 串本町 | AP32: 津野町 | AQ32: 宇美町 | AT32: 益城町 | AW32: 中種子町 | AX32: 座間味村
B33: 鳥取県 | D33: 登別市 | E33: 大間町 | F33: 九戸村 | G33: 加美町 | I33: 白鷹町 | J33: 三島町 | K33: つくばみらい市 | M33: 板倉町 | N33: 富士見市 | O33: 富里市 | P33: 調布市 | Q33: 真鶴町 | W33: 下諏訪町 | X33: 大野町 | Y33: 長泉町 | Z33: 田原市 | AD33: 交野市 | AE33: 多可町 | AF33: 下市町 | AP33: 四万十町 | AQ33: 篠栗町 | AT33: 甲佐町 | AW33: 南種子町 | AX33: 粟国村
B34: 島根県 | D34: 恵庭市 | E34: 東通村 | F34: 洋野町 | G34: 涌谷町 | I34: 飯豊町 | J34: 金山町 | K34: 小美玉市 | M34: 明和町 | N34: 三郷市 | O34: 南房総市 | P34: 町田市 | Q34: 湯河原町 | W34: 富士見町 | X34: 池田町 | Y34: 小山町 | Z34: 愛西市 | AD34: 大阪狭山市 | AE34: 稲美町 | AF34: 黒滝村 | AP34: 大月町 | AQ34: 志免町 | AT34: 山都町 | AW34: 屋久島町 | AX34: 渡名喜村
B35: 岡山県 | D35: 伊達市 | E35: 風間浦村 | F35: 一戸町 | G35: 美里町 | I35: 三川町 | J35: 昭和村 | K35: 茨城町 | M35: 千代田町 | N35: 蓮田市 | O35: 匝瑳市 | P35: 小金井市 | Q35: 愛川町 | W35: 原村 | X35: 北方町 | Y35: 吉田町 | Z35: 清須市 | AD35: 阪南市 | AE35: 播磨町 | AF35: 天川村 | AP35: 三原村 | AQ35: 須恵町 | AT35: 氷川町 | AW35: 大和村 | AX35: 南大東村
B36: 広島県 | D36: 北広島市 | E36: 佐井村 | G36: 女川町 | I36: 庄内町 | J36: 会津美里町 | K36: 大洗町 | M36: 大泉町 | N36: 坂戸市 | O36: 香取市 | P36: 小平市 | Q36: 清川村 | W36: 辰野町 | X36: 坂祝町 | Y36: 川根本町 | Z36: 北名古屋市 | AD36: 島本町 | AE36: 市川町 | AF36: 野迫川村 | AP36: 黒潮町 | AQ36: 新宮町 | AT36: 芦北町 | AW36: 宇検村 | AX36: 北大東村
B37: 山口県 | D37: 石狩市 | E37: 三戸町 | G37: 南三陸町 | I37: 遊佐町 | J37: 西郷村 | K37: 城里町 | M37: 邑楽町 | N37: 幸手市 | O37: 山武市 | P37: 日野市 | W37: 箕輪町 | X37: 富加町 | Y37: 森町 | Z37: 弥富市 | AD37: 豊能町 | AE37: 福崎町 | AF37: 十津川村 | AQ37: 久山町 | AT37: 津奈木町 | AW37: 瀬戸内町 | AX37: 伊平屋村
B38: 徳島県 | D38: 北斗市 | E38: 五戸町 | J38: 泉崎村 | K38: 東海村 | N38: 鶴ヶ島市 | O38: いすみ市 | P38: 東村山市 | W38: 飯島町 | X38: 川辺町 | Z38: みよし市 | AD38: 能勢町 | AE38: 神河町 | AF38: 下北山村 | AQ38: 粕屋町 | AT38: 錦町 | AW38: 龍郷町 | AX38: 伊是名村
B39: 香川県 | D39: 当別町 | E39: 田子町 | J39: 中島村 | K39: 大子町 | N39: 日高市 | O39: 大網白里市 | P39: 国分寺市 | W39: 南箕輪村 | X39: 七宗町 | Z39: あま市 | AD39: 忠岡町 | AE39: 太子町 | AF39: 上北山村 | AQ39: 芦屋町 | AT39: 多良木町 | AW39: 喜界町 | AX39: 久米島町
B40: 愛媛県 | D40: 新篠津村 | E40: 南部町 | J40: 矢吹町 | K40: 美浦村 | N40: 吉川市 | O40: 酒々井町 | P40: 国立市 | W40: 中川村 | X40: 八百津町 | Z40: 長久手市 | AD40: 熊取町 | AE40: 上郡町 | AF40: 川上村 | AQ40: 水巻町 | AT40: 湯前町 | AW40: 徳之島町 | AX40: 八重瀬町
B41: 高知県 | D41: 松前町 | E41: 階上町 | J41: 棚倉町 | K41: 阿見町 | N41: ふじみ野市 | O41: 栄町 | P41: 福生市 | W41: 宮田村 | X41: 白川町 | Z41: 東郷町 | AD41: 田尻町 | AE41: 佐用町 | AF41: 東吉野村 | AQ41: 岡垣町 | AT41: 水上村 | AW41: 天城町 | AX41: 多良間村
B42: 福岡県 | D42: 福島町 | E42: 新郷村 | J42: 矢祭町 | K42: 河内町 | N42: 白岡市 | O42: 神崎町 | P42: 狛江市 | W42: 松川町 | X42: 東白川村 | Z42: 豊山町 | AD42: 岬町 | AE42: 香美町 | AQ42: 遠賀町 | AT42: 相良村 | AW42: 伊仙町 | AX42: 竹富町
B43: 佐賀県 | D43: 知内町 | J43: 塙町 | K43: 八千代町 | N43: 伊奈町 | O43: 多古町 | P43: 東大和市 | W43: 高森町 | X43: 御嵩町 | Z43: 大口町 | AD43: 太子町 | AE43: 新温泉町 | AQ43: 小竹町 | AT43: 五木村 | AW43: 和泊町 | AX43: 与那国町
B44: 長崎県 | D44: 木古内町 | J44: 鮫川村 | K44: 五霞町 | N44: 三芳町 | O44: 東庄町 | P44: 清瀬市 | W44: 阿南町 | X44: 白川村 | Z44: 扶桑町 | AD44: 河南町 | AQ44: 鞍手町 | AT44: 山江村 | AW44: 知名町
B45: 熊本県 | D45: 七飯町 | J45: 石川町 | K45: 境町 | N45: 毛呂山町 | O45: 九十九里町 | P45: 東久留米市 | W45: 阿智村 | Z45: 大治町 | AD45: 千早赤阪村 | AQ45: 桂川町 | AT45: 球磨村 | AW45: 与論町
B46: 大分県 | D46: 鹿部町 | J46: 玉川村 | K46: 利根町 | N46: 越生町 | O46: 芝山町 | P46: 武蔵村山市 | W46: 平谷村 | Z46: 蟹江町 | AQ46: 筑前町 | AT46: あさぎり町
B47: 宮崎県 | D47: 森町 | J47: 平田村 | N47: 滑川町 | O47: 横芝光町 | P47: 多摩市 | W47: 根羽村 | Z47: 飛島村 | AQ47: 東峰村 | AT47: 苓北町
B48: 鹿児島県 | D48: 八雲町 | J48: 浅川町 | N48: 嵐山町 | O48: 一宮町 | P48: 稲城市 | W48: 下條村 | Z48: 阿久比町 | AQ48: 大刀洗町
B49: 沖縄県 | D49: 長万部町 | J49: 古殿町 | N49: 小川町 | O49: 睦沢町 | P49: 羽村市 | W49: 売木村 | Z49: 東浦町 | AQ49: 大木町
D50: 江差町 | J50: 三春町 | N50: 川島町 | O50: 長生村 | P50: あきる野市 | W50: 天龍村 | Z50: 南知多町 | AQ50: 広川町
D51: 上ノ国町 | J51: 小野町 | N51: 吉見町 | O51: 白子町 | P51: 西東京市 | W51: 泰阜村 | Z51: 美浜町 | AQ51: 香春町
D52: 厚沢部町 | J52: 広野町 | N52: 鳩山町 | O52: 長柄町 | P52: 瑞穂町 | W52: 喬木村 | Z52: 武豊町 | AQ52: 添田町
D53: 乙部町 | J53: 楢葉町 | N53: ときがわ町 | O53: 長南町 | P53: 日の出町 | W53: 豊丘村 | Z53: 幸田町 | AQ53: 糸田町
D54: 奥尻町 | J54: 富岡町 | N54: 横瀬町 | O54: 大多喜町 | P54: 檜原村 | W54: 大鹿村 | Z54: 設楽町 | AQ54: 川崎町
D55: 今金町 | J55: 川内村 | N55: 皆野町 | O55: 御宿町 | P55: 奥多摩町 | W55: 上松町 | Z55: 東栄町 | AQ55: 大任町
D56: せたな町 | J56: 大熊町 | N56: 長瀞町 | O56: 鋸南町 | P56: 大島町 | W56: 南木曽町 | Z56: 豊根村 | AQ56: 赤村
D57: 島牧村 | J57: 双葉町 | N57: 小鹿野町 | P57: 利島村 | W57: 木祖村 | AQ57: 福智町
D58: 寿都町 | J58: 浪江町 | N58: 東秩父村 | P58: 新島村 | W58: 王滝村 | AQ58: 苅田町
D59: 黒松内町 | J59: 葛尾村 | N59: 美里町 | P59: 神津島村 | W59: 大桑村 | AQ59: みやこ町
D60: 蘭越町 | J60: 新地町 | N60: 神川町 | P60: 三宅村 | W60: 木曽町 | AQ60: 吉富町
D61: ニセコ町 | J61: 飯舘村 | N61: 上里町 | P61: 御蔵島村 | W61: 麻績村 | AQ61: 上毛町
D62: 真狩村 | N62: 寄居町 | P62: 八丈町 | W62: 生坂村 | AQ62: 築上町
D63: 留寿都村 | N63: 宮代町 | P63: 青ヶ島村 | W63: 山形村
D64: 喜茂別町 | N64: 杉戸町 | P64: 小笠原村 | W64: 朝日村
D65: 京極町 | N65: 松伏町 | W65: 筑北村
D66: 倶知安町 | W66: 池田町
D67: 共和町 | W67: 松川村
D68: 岩内町 | W68: 白馬村
D69: 泊村 | W69: 小谷村
D70: 神恵内村 | W70: 坂城町
D71: 積丹町 | W71: 小布施町
D72: 古平町 | W72: 高山村
D73: 仁木町 | W73: 山ノ内町
D74: 余市町 | W74: 木島平村
D75: 赤井川村 | W75: 野沢温泉村
D76: 南幌町 | W76: 信濃町
D77: 奈井江町 | W77: 小川村
... D79: 由仁町 | W79: 栄村
D80: 長沼町
D81: 栗山町
D82: 月形町
D83: 浦臼町
D84: 新十津川町
D85: 妹背牛町
D86: 秩父別町
D87: 雨竜町
D88: 北竜町
D89: 沼田町
D90: 鷹栖町
D91: 東神楽町
... D188: 蘂取村
